BEGIN:VCALENDAR
VERSION:2.0
PRODID:SchoolNow
CALSCALE:GREGORIAN
BEGIN:VEVENT
UID:70e43034-12b3-11e8-984d-0a8d12ebc3ee
DTSTAMP:20180925T162646Z
SUMMARY:GED Testing at SRC Outreach Center\, Macomb
LOCATION:Spoon River College Outreach Center
URL;VALUE=URI:https://www.roe26.net/testing/calendar/1712482/ged-testing-at
 -src
DTSTART:20181024T130000Z
DTEND:20181024T210000Z
END:VEVENT
END:VCALENDAR
