BEGIN:VCALENDAR
VERSION:2.0
PRODID:SchoolNow
CALSCALE:GREGORIAN
BEGIN:VEVENT
UID:623dc964-12b3-11e8-b01d-0a8d12ebc3ee
DTSTAMP:20180925T161431Z
SUMMARY:GED Testing at SRC Outreach Center\, Macomb
LOCATION:Spoon River College Outreach Center
URL;VALUE=URI:https://www.roe26.net/testing/calendar/1712481/ged-testing-at
 -src
DTSTART:20181017T130000Z
DTEND:20181017T210000Z
END:VEVENT
END:VCALENDAR
