BEGIN:VCALENDAR
VERSION:2.0
PRODID:SchoolNow
CALSCALE:GREGORIAN
BEGIN:VEVENT
UID:4e04360e-12b3-11e8-83e0-12fef69490ba
DTSTAMP:20180925T161402Z
SUMMARY:GED Testing at SRC Outreach Center\, Macomb
LOCATION:Spoon River College Outreach Center
URL;VALUE=URI:https://www.roe26.net/testing/calendar/1712480/ged-testing-at
 -src
DTSTART:20181005T130000Z
DTEND:20181005T210000Z
END:VEVENT
END:VCALENDAR
