BEGIN:VCALENDAR
VERSION:2.0
PRODID:SchoolNow
CALSCALE:GREGORIAN
BEGIN:VEVENT
UID:21386302-12b3-11e8-96db-12fef69490ba
DTSTAMP:20180925T232955Z
SUMMARY:GED Testing at SRC Outreach Center\, Macomb
LOCATION:Spoon River College Outreach Center
URL;VALUE=URI:https://www.roe26.net/testing/calendar/1712478/ged-testing-at
 -src
DTSTART:20180919T130000Z
DTEND:20180919T210000Z
END:VEVENT
END:VCALENDAR
