BEGIN:VCALENDAR
VERSION:2.0
PRODID:SchoolNow
CALSCALE:GREGORIAN
BEGIN:VEVENT
UID:0ff5319c-12b3-11e8-ae06-12fef69490ba
DTSTAMP:20180925T233004Z
SUMMARY:GED Testing at SRC Outreach Center\, Macomb
LOCATION:Spoon River College Outreach Center
URL;VALUE=URI:https://www.roe26.net/testing/calendar/1712477/ged-testing-at
 -src
DTSTART:20180907T130000Z
DTEND:20180907T210000Z
END:VEVENT
END:VCALENDAR
