BEGIN:VCALENDAR
VERSION:2.0
PRODID:SchoolNow
CALSCALE:GREGORIAN
BEGIN:VEVENT
UID:fe97b5f0-12b2-11e8-b257-12fef69490ba
DTSTAMP:20180925T233015Z
SUMMARY:GED Testing at SRC Outreach Center\, Macomb
LOCATION:Spoon River College Outreach Center
URL;VALUE=URI:https://www.roe26.net/testing/calendar/1712476/ged-testing-at
 -src
DTSTART:20180810T130000Z
DTEND:20180810T210000Z
END:VEVENT
END:VCALENDAR
