BEGIN:VCALENDAR
VERSION:2.0
PRODID:SchoolNow
CALSCALE:GREGORIAN
BEGIN:VEVENT
UID:2fcf9e36-12b2-11e8-afad-0a4e5d4e7e8a
DTSTAMP:20180925T233026Z
SUMMARY:GED Testing at SRC Outreach Center\, Macomb
LOCATION:Spoon River College Outreach Center
URL;VALUE=URI:https://www.roe26.net/testing/calendar/1712475/ged-testing-at
 -src
DTSTART:20180711T130000Z
DTEND:20180711T210000Z
END:VEVENT
END:VCALENDAR
