BEGIN:VCALENDAR
VERSION:2.0
PRODID:SchoolNow
CALSCALE:GREGORIAN
BEGIN:VEVENT
UID:08a4e5e6-12b2-11e8-8d64-0a4e5d4e7e8a
DTSTAMP:20180925T233045Z
SUMMARY:GED Testing at SRC Outreach Center\, Macomb
LOCATION:Spoon River College Outreach Center
URL;VALUE=URI:https://www.roe26.net/testing/calendar/1712473/ged-testing-at
 -src
DTSTART:20180620T130000Z
DTEND:20180620T210000Z
END:VEVENT
END:VCALENDAR
