BEGIN:VCALENDAR
VERSION:2.0
PRODID:SchoolNow
CALSCALE:GREGORIAN
BEGIN:VEVENT
UID:f914f134-12b1-11e8-b6d4-0a4e5d4e7e8a
DTSTAMP:20180925T233054Z
SUMMARY:GED Testing at SRC Outreach Center\, Macomb
LOCATION:Spoon River College Outreach Center
URL;VALUE=URI:https://www.roe26.net/testing/calendar/1712472/ged-testing-at
 -src
DTSTART:20180613T130000Z
DTEND:20180613T210000Z
END:VEVENT
END:VCALENDAR
