BEGIN:VCALENDAR
VERSION:2.0
PRODID:SchoolNow
CALSCALE:GREGORIAN
BEGIN:VEVENT
UID:e6ebffca-12b1-11e8-9b3a-0a4e5d4e7e8a
DTSTAMP:20180925T233104Z
SUMMARY:GED Testing at SRC Outreach Center\, Macomb
LOCATION:Spoon River College Outreach Center
URL;VALUE=URI:https://www.roe26.net/testing/calendar/1712471/ged-testing-at
 -src
DTSTART:20180606T130000Z
DTEND:20180606T210000Z
END:VEVENT
END:VCALENDAR
