BEGIN:VCALENDAR
VERSION:2.0
PRODID:SchoolNow
CALSCALE:GREGORIAN
BEGIN:VEVENT
UID:d67b9c68-12b1-11e8-87d6-0a4e5d4e7e8a
DTSTAMP:20180926T150710Z
SUMMARY:GED Testing at SRC Outreach Center\, Macomb
LOCATION:Spoon River College Outreach Center
URL;VALUE=URI:https://www.roe26.net/testing/calendar/1712470/ged-testing-at
 -src
DTSTART:20180515T130000Z
DTEND:20180515T210000Z
END:VEVENT
END:VCALENDAR
