BEGIN:VCALENDAR
VERSION:2.0
PRODID:SchoolNow
CALSCALE:GREGORIAN
BEGIN:VEVENT
UID:c9400e58-12b1-11e8-ba06-0a4e5d4e7e8a
DTSTAMP:20180926T150725Z
SUMMARY:GED Testing at SRC Outreach Center\, Macomb
LOCATION:Spoon River College Outreach Center
URL;VALUE=URI:https://www.roe26.net/testing/calendar/1712469/ged-testing-at
 -src
DTSTART:20180510T130000Z
DTEND:20180510T210000Z
END:VEVENT
END:VCALENDAR
