BEGIN:VCALENDAR
VERSION:2.0
PRODID:SchoolNow
CALSCALE:GREGORIAN
BEGIN:VEVENT
UID:bc1e06d0-12b1-11e8-ac46-0a4e5d4e7e8a
DTSTAMP:20180926T150758Z
SUMMARY:GED Testing at SRC Outreach Center\, Macomb
LOCATION:Spoon River College Outreach Center
URL;VALUE=URI:https://www.roe26.net/testing/calendar/1712468/ged-testing-at
 -src
DTSTART:20180502T130000Z
DTEND:20180502T210000Z
END:VEVENT
END:VCALENDAR
