BEGIN:VCALENDAR
VERSION:2.0
PRODID:SchoolNow
CALSCALE:GREGORIAN
BEGIN:VEVENT
UID:d4b4caf8-6356-11e8-b866-0addd653d7da
DTSTAMP:20180529T154202Z
SUMMARY:Putting the Trauma Informed Pieces Together: School-Wide System & C
 lassroom Strategies
DESCRIPTION:Intended Audience: K-12 Educators
LOCATION:Galesburg CUSD #205 Boardroom
URL;VALUE=URI:https://www.roe26.net/calendar/1786804/students-learn-what-th
 ey-live-how-trauma-affects-student-achievement-and-how-we-can-help-clone
DTSTART:20180622T143000Z
DTEND:20180622T200000Z
END:VEVENT
END:VCALENDAR
