BEGIN:VCALENDAR
VERSION:2.0
PRODID:SchoolNow
CALSCALE:GREGORIAN
BEGIN:VEVENT
UID:e83ae5d6-6355-11e8-8d10-12a6ca981252
DTSTAMP:20180529T153525Z
SUMMARY:Introduction to Restorative Practices and Using Circles Effectively
  - Days 1 & 2
DESCRIPTION:Intended Audience: TAOEP and RSSP Educators\, K-12 Educators
LOCATION:Thomas Legacy Center\, Galesburg IL
URL;VALUE=URI:https://www.roe26.net/calendar/1786795/introduction-to-restor
 ative-practices-and-using-circles-effectively-days-1-2
DTSTART:20180531T140000Z
DTEND:20180601T203000Z
END:VEVENT
END:VCALENDAR
