BEGIN:VCALENDAR
VERSION:2.0
PRODID:SchoolNow
CALSCALE:GREGORIAN
BEGIN:VEVENT
UID:0c76338c-4f07-11e8-960a-12c9f8896242
DTSTAMP:20180503T192032Z
SUMMARY:Restorative Circles: Creating a Classroom Community that Supports L
 earning
DESCRIPTION:Intended Audience: K-12 Educators
LOCATION:Regional Office of Education #26
URL;VALUE=URI:https://www.roe26.net/calendar/1773245/restorative-circles-cr
 eating-a-classroom-community-that-supports-learning
DTSTART:20180627T140000Z
DTEND:20180627T210000Z
END:VEVENT
END:VCALENDAR
