BEGIN:VCALENDAR
VERSION:2.0
PRODID:SchoolNow
CALSCALE:GREGORIAN
BEGIN:VEVENT
UID:c1d521bc-4f06-11e8-bece-0ae55e62729e
DTSTAMP:20180503T191827Z
SUMMARY:Play in Peace
DESCRIPTION:Intended Audience: K-5 Educators
LOCATION:Galesburg Community Foundation
URL;VALUE=URI:https://www.roe26.net/calendar/1773242/play-in-peace
DTSTART:20180626T140000Z
DTEND:20180626T170000Z
END:VEVENT
END:VCALENDAR
