BEGIN:VCALENDAR
VERSION:2.0
PRODID:SchoolNow
CALSCALE:GREGORIAN
BEGIN:VEVENT
UID:726fbbaa-4f06-11e8-b9d3-0af2d18d52b6
DTSTAMP:20180503T191614Z
SUMMARY:Google Slides Online Course
DESCRIPTION:Intended Audience: K-12 Educators
LOCATION:Online
URL;VALUE=URI:https://www.roe26.net/calendar/1773239/google-slides-online-c
 ourse
DTSTART:20180625T050000Z
DTEND:20180626T045900Z
END:VEVENT
END:VCALENDAR
