BEGIN:VCALENDAR
VERSION:2.0
PRODID:SchoolNow
CALSCALE:GREGORIAN
BEGIN:VEVENT
UID:c4c14ece-4f05-11e8-bdf1-127a1989f21a
DTSTAMP:20180503T191122Z
SUMMARY:Students Learn What They Live: How Trauma Affects Student Achieveme
 nt and How We Can Help
DESCRIPTION:Intended Audience: K-12 Educators
LOCATION:Regional Office of Education 26
URL;VALUE=URI:https://www.roe26.net/calendar/1773235/students-learn-what-th
 ey-live-how-trauma-affects-student-achievement-and-how-we-can-help
DTSTART:20180619T140000Z
DTEND:20180619T170000Z
END:VEVENT
END:VCALENDAR
