BEGIN:VCALENDAR
VERSION:2.0
PRODID:SchoolNow
CALSCALE:GREGORIAN
BEGIN:VEVENT
UID:76b75520-4f05-11e8-9015-12c9f8896242
DTSTAMP:20180503T190911Z
SUMMARY:Student Behavioral Threat Assessment
DESCRIPTION:Intended Audience: School Administrators\, Lead Teachers\, Psyc
 hological Services\, Counselors\, Local Law Enforcement\, School Resource 
 Officers\, Local Community Services\, Mental Health Agencies\, and School 
 Legal Counsel
LOCATION:Carl Sandburg College Room A036/A040
URL;VALUE=URI:https://www.roe26.net/calendar/1773232/student-behavioral-thr
 eat-assessment
DTSTART:20180618T130000Z
DTEND:20180618T210000Z
END:VEVENT
END:VCALENDAR
