BEGIN:VCALENDAR
VERSION:2.0
PRODID:SchoolNow
CALSCALE:GREGORIAN
BEGIN:VEVENT
UID:4a608e4a-4ef3-11e8-be14-0af2d18d52b6
DTSTAMP:20180503T165906Z
SUMMARY:Implementing the Math Standards - Online Course
DESCRIPTION:Intended Audience: K-12 Math Teachers
LOCATION:Online
URL;VALUE=URI:https://www.roe26.net/calendar/1773223/implementing-the-math-
 standards-online-course
DTSTART:20180618T050000Z
DTEND:20180619T045900Z
END:VEVENT
END:VCALENDAR
