BEGIN:VCALENDAR
VERSION:2.0
PRODID:SchoolNow
CALSCALE:GREGORIAN
BEGIN:VEVENT
UID:6d2a5fc2-4eef-11e8-86d9-12fc6bce61da
DTSTAMP:20180503T163127Z
SUMMARY:Teacher/Principal Evaluator Retraining - Student Growth AA #3000/#3
 001/#3002
DESCRIPTION:Intended Audience:  K-12 Administrators that Evaluate Teachers 
 and/or Principals
LOCATION:Galesburg #205 Boardroom
URL;VALUE=URI:https://www.roe26.net/calendar/1773220/teacherprincipal-evalu
 ator-retraining-student-growth-aa-300030013002
DTSTART:20180613T133000Z
DTEND:20180613T203000Z
END:VEVENT
END:VCALENDAR
