BEGIN:VCALENDAR
VERSION:2.0
PRODID:SchoolNow
CALSCALE:GREGORIAN
BEGIN:VEVENT
UID:16d030c0-4eef-11e8-8464-0a53c23f215c
DTSTAMP:20180503T162902Z
SUMMARY:Teaching Academic Vocabulary Online Course
DESCRIPTION:Intended Audience: K-12 ELA Educators
LOCATION:Online
URL;VALUE=URI:https://www.roe26.net/calendar/1773217/teaching-academic-voca
 bulary-online-course
DTSTART:20180611T050000Z
DTEND:20180611T170000Z
END:VEVENT
END:VCALENDAR
