BEGIN:VCALENDAR
VERSION:2.0
PRODID:SchoolNow
CALSCALE:GREGORIAN
BEGIN:VEVENT
UID:64eaf9ee-4eee-11e8-95a1-0afac28aa2c0
DTSTAMP:20180503T162403Z
SUMMARY:Phase 4: Developing Your Own Storyline Units Aligned to NGSS
DESCRIPTION:Intended Audience: K-12 Science Educators
LOCATION:RAES East PD Room
URL;VALUE=URI:https://www.roe26.net/calendar/1773213/phase-4-developing-you
 r-own-storyline-units-aligned-to-ngss
DTSTART:20180605T140000Z
DTEND:20180605T203000Z
END:VEVENT
END:VCALENDAR
