BEGIN:VCALENDAR
VERSION:2.0
PRODID:SchoolNow
CALSCALE:GREGORIAN
BEGIN:VEVENT
UID:2de94428-4ee9-11e8-a608-0a53c23f215c
DTSTAMP:20180503T154643Z
SUMMARY:New Frontiers - Identification\, Placement\, and Support for ELL St
 udents
DESCRIPTION:Intended Audience: K-12 Educators with ELL/ESL Students
LOCATION:Galesburg Community Foundation
URL;VALUE=URI:https://www.roe26.net/calendar/1773200/new-frontiers-identifi
 cation-placement-and-support-for-ell-students
DTSTART;VALUE=DATE:20180530
DTEND;VALUE=DATE:20180531
END:VEVENT
END:VCALENDAR
