BEGIN:VCALENDAR
VERSION:2.0
PRODID:SchoolNow
CALSCALE:GREGORIAN
BEGIN:VEVENT
UID:b9512ed6-4ee4-11e8-ba6a-0af2d18d52b6
DTSTAMP:20180503T151450Z
SUMMARY:Macomb Tech Meeting
DESCRIPTION:Intended Audience: ROE #26 Tech Directors/Coordinators
LOCATION:ROE26
URL;VALUE=URI:https://www.roe26.net/calendar/1773172/macomb-tech-meeting
DTSTART:20180515T140000Z
DTEND:20180515T160000Z
END:VEVENT
END:VCALENDAR
