BEGIN:VCALENDAR
VERSION:2.0
PRODID:SchoolNow
CALSCALE:GREGORIAN
BEGIN:VEVENT
UID:803d4f0e-4ee3-11e8-a917-1219491cc934
DTSTAMP:20180503T165821Z
SUMMARY:Implementing the Math Standards - Online Course
DESCRIPTION:Intended Audience:
LOCATION:Online
URL;VALUE=URI:https://www.roe26.net/calendar/1773169/implementing-the-math-
 standards-online-course
DTSTART:20180507T050000Z
DTEND:20180508T045900Z
END:VEVENT
END:VCALENDAR
