BEGIN:VCALENDAR
VERSION:2.0
PRODID:SchoolNow
CALSCALE:GREGORIAN
BEGIN:VEVENT
UID:6161118e-3ec5-11e8-bfff-126aa2e82910
DTSTAMP:20180413T025009Z
SUMMARY:Ruby Payne – Working with Students
DESCRIPTION:Classroom Management
LOCATION:WCISEC Conference Room
URL;VALUE=URI:https://www.roe26.net/calendar/1765032/ruby-payne-working-wit
 h-students
DTSTART:20180808T133000Z
DTEND:20180808T203000Z
END:VEVENT
END:VCALENDAR
