BEGIN:VCALENDAR
VERSION:2.0
PRODID:SchoolNow
CALSCALE:GREGORIAN
BEGIN:VEVENT
UID:6b75500e-2ec2-11f1-8d9a-0a58a9feac02
DTSTAMP:20260402T183318Z
SUMMARY:ROE26 Closed for Memorial Day
URL;VALUE=URI:https://www.roe26.net/about/calendar/8966163/roe26-closed-for
 -memorial-day
DTSTART;VALUE=DATE:20260525
DTEND;VALUE=DATE:20260526
END:VEVENT
END:VCALENDAR
