BEGIN:VCALENDAR
VERSION:2.0
PRODID:SchoolNow
CALSCALE:GREGORIAN
BEGIN:VEVENT
UID:7d43de6e-aec4-11f0-9417-0a58a9feac02
DTSTAMP:20251216T154608Z
SUMMARY:724-26 Human Growth Leadership: Action-Planning\, Next Steps\, and 
 Wrap-Up
LOCATION:Regional Office of Education #26\, 130 S Lafayette St Ste 200\, Ma
 comb\, IL 61455\, USA
URL;VALUE=URI:https://www.roe26.net/about/calendar/8740451/724-26-human-gro
 wth-leadership-action-planning-next-steps-and-wrap-up
DTSTART:20260513T133000Z
DTEND:20260513T203000Z
END:VEVENT
END:VCALENDAR
