BEGIN:VCALENDAR
VERSION:2.0
PRODID:SchoolNow
CALSCALE:GREGORIAN
BEGIN:VEVENT
UID:6af04494-253c-11f0-9405-0e094eb8c521
DTSTAMP:20251216T154608Z
SUMMARY:#516-25 *PRIVATE EVENT* West Central High School SEL Hub Team Coach
 ing
LOCATION:West Central High School\, 1514 US-34\, Biggsville\, IL 61418\, US
 A
URL;VALUE=URI:https://www.roe26.net/about/calendar/8034542/516-25-private-e
 vent-west-central-high-school-sel-hub-team-coaching
DTSTART:20260427T130000Z
DTEND:20260427T134500Z
END:VEVENT
END:VCALENDAR
